BEGIN:VCALENDAR
VERSION:2.0
PRODID:-//CINNOVA
CALSCALE:GREGORIAN
METHOD:PUBLISH
X-WR-CALNAME:CINNOVA
X-ORIGINAL-URL:https://cinnova.org/es/event/maestria-en-ingenieria-y-tecnologia-ambiental/
X-WR-CALDESC:Maestría en Ingeniería y Tecnología Ambiental
BEGIN:VEVENT
DTSTART:20200706T000000
DTEND:
SUMMARY:Maestría en Ingeniería y Tecnología Ambiental
DESCRIPTION:UNICEPES - Universidad de Centro Panamericano de Estudios Superior
LOCATION:UNICEPES
END:VEVENT
END:VCALENDAR
