BEGIN:VCALENDAR
VERSION:2.0
PRODID:-//CINNOVA
CALSCALE:GREGORIAN
METHOD:PUBLISH
X-WR-CALNAME:CINNOVA
X-ORIGINAL-URL:https://cinnova.org/event/master-in-project-management/
X-WR-CALDESC:Master of Science in Project Management
BEGIN:VEVENT
DTSTART:20200706T000000
DTEND:
SUMMARY:Master of Science in Project Management
DESCRIPTION:UNICEPES - University of Pan American Center for Higher Education
LOCATION:UNICEPES
END:VEVENT
END:VCALENDAR
